Workbook

Sheet 第１号様式
A1: 別記 | O1: 【記載留意事項】
A2: 第１号様式（第４条関係） | P2: に入力してください。
H4: 第 | N4: 号 | O4: ←法人で特に文書番号を設定していない場合は、入力不要
H5: 令和 | J5: 年 | L5: 月 | N5: 日
A7: 鹿児島県知事 塩田 康一 殿
D9: 申請者 住 所
D10: 氏 名 | O10: ←法人名を記載（例） 株式会社 ○○ ○○ 、 社会福祉法人 ◇◇ ◇◇
O11: ←法人代表者名を記載（例） 代表取締役 ○○ ○○ 、 理事長 ◇◇ ◇◇
O13: ←（ ）内は下記リストから選択
A14: 令和８年度地域医療介護総合確保基金事業 | F14: （ | N14: ） | O14: 介護員養成研修費用助成事業
A15: 補助金交付申請書 | O15: 介護職員実務者研修費用助成事業
O16: アセッサー講習費用助成事業
A17: 令和８年度地域医療介護総合確保基金事業 （ | M17: ）を
A18: 実施したいので、下記のとおり補助金を交付くださるよう、鹿児島県補助金等交付規則
A19: 第３条及び鹿児島県地域医療介護総合確保基金事業補助金交付要綱第４条の規定により、
A20: 関係書類を添えて申請します。
A22: 記
A24: １ 補助金交付申請額 | D24: 金 | E24: =+'第２号様式 '!H14 -> 0 | H24: 円 | O24: 交付申請額は、第２号様式から自動で転記されます。
A26: ２ 添付書類
A27: (1) 経費所要額調書（別記第２号様式）
A28: (2) 事業計画書（別記第３号様式）
A29: (3) 収支予算書（別記第４号様式）
A30: (4) その他知事が必要と認める書類

Sheet 第２号様式 
A1: 第２号様式（第４条、第７条関係）
A2: （その１）
C3: （ 変 更 ） | D3: 経 費 所 要 額 調 書
F5: 補助事業者名（ | G5: =+第１号様式!G10 -> 0 | J5: ）
A6: 事業名
C7: 寄付金 その他の 収入額 | D7: 差引額 （A)－（B） | E7: 対象経費の 支出予定額 | F7: 基準額 | G7: 選定額 | H7: 補助金所要額 （F）×補助率
B8: 総事業費 | I8: 事業者負担額
I9: (A)-(B)-(G)
B11: （A) | C11: （B) | D11: （C) | E11: （D) | F11: （E) | G11: （F) | H11: （G) | I11: （H）
B12: 円 | C12: 円 | D12: 円 | E12: 円 | F12: 円 | G12: 円 | H12: 円 | I12: 円
D13: =B13-C13 -> 0 | G13: =MINA(E13:F13) -> 0 | H13: =ROUNDDOWN(G13/2,-3) -> 0 | I13: =D13-H13 -> 0
C14: 0 | D14: =B14-C14 -> 0 | E14: =D14 -> 0 | G14: =MINA(E14:F14) -> 0 | H14: =ROUNDDOWN(G14/2,-3) -> 0 | I14: =D14-H14 -> 0
A16: （注） １ 「選定額」（F）欄は、（C）、（D）、（E）を比較して最も少ない額を記入すること。ただし、看護師特定行為研修受講支援事業、介護サービス 事業所ＩＣＴ導入支援事業、病院内保育所運営費補助事業、医師勤務環境改善等事業、介護職員キャリアアップ支援事業、介護事業所内保育所運営 費補助事業、介護ロボット導入支援事業、介護職員人材確保対策事業及び離島・中山間地域等における介護人材確保支援事業については、（D)と （E）を比較して少ない方の額を記入すること。 ２ 該当なしの欄は「０」を記入すること。 ３ 「補助金所要額」は千円未満の端数は切り捨てること。 ４ 変更の場合は２段書きとし、上段に変更前の金額を（ ）書きで記入すること。

Sheet 第３号様式
A1: 第３号様式（第４条関係） | S1: 【記載留意事項】
T2: に入力してください。
A3: 事 業 計 画 書
A5: １ 事業名 | S5: ←事業名は該当するものをリストから選択
J6: （ | R6: ） | S6: （）内は、「介護員養成研修費用助成事業」の場合、該当するものをリストから選択
S7: 介護職員初任者研修
A8: ２ 事業者名（施設名等） | S8: 生活援助従事者研修
B9: =+第１号様式!G10 -> 0 | S9: ←事業者名は第１号様式から自動で転記されます。
B10: （ | J10: ） | S10: ←（）内は、事業所・施設の名称を入力 （例）グループホーム○○○○、特別養護老人ホーム◇◇◇◇
A12: ３ 実施予定期間
A13: 令和 | D13: 年 | F13: 月 | H13: 日～令和 | K13: 年 | M13: 月 | O13: 日 | S13: ←研修受講開始～受講修了証交付まで
A15: ４ 事業の目的・目標
S16: ←下記の記入例を参照してください。
S17: （例）介護・福祉についての専門的な知識，技術を習得し，介護業務の質の向上を図る。
B19: 実 施 事 業 内 容 等
S20: ←下記の記入例を参照してください。
S21: （例） １ 対象職員 ・介護職員初任者研修 ◇名 ・生活援助従事者研修 ×名 ※ 受講者は別添一覧のとおり ２ 受講予定期間 令和 年 月 日～令和 年 月 日 ３ 研修受講機関・講座名 ●●●●センター

Sheet 第４号様式
A1: 第４号様式（第４条関係） | F1: 【記載留意事項】
G2: に入力してください。
A3: 収 支 予 算 書
A5: 事業名（ | D5: ） | F5: ←（ ）内は下記リストから選択
A7: ⑴ 収入 | E7: （単位：円）
A8: 区 分 | B8: 予算額 | C8: 前年度予算額 | D8: 増 減 額 | E8: 備 考
A9: 県補助金 | D9: =+B9-C9 -> 0
A10: 自己負担金 | D10: =+B10-C10 -> 0
A11: その他 | D11: =+B11-C11 -> 0
A12: 計 | B12: =SUM(B9:B11) -> 0 | C12: =SUM(B12) -> 0 | D12: =+B12-C12 -> 0 | F12: ←収入計は(2)の支出計と一致すること
A14: ⑵ 支出 | E14: （単位：円）
A15: 区 分 | B15: 予算額 | C15: 前年度予算額 | D15: 増 減 額 | E15: 備 考
A16: 研修経費 | D16: =+B16-C16 -> 0
D17: =+B17-C17 -> 0
D18: =+B18-C18 -> 0
D19: =+B19-C19 -> 0
D20: =+B20-C20 -> 0
D21: =+B21-C21 -> 0
D22: =+B22-C22 -> 0
A23: 計 | B23: =SUM(B16:B22) -> 0 | C23: =SUM(C16:C22) -> 0 | D23: =+B23-C23 -> 0 | F23: ←支出計は(１)の収入計と一致すること また、第２号様式の総事業費（Ａ）と一致すること
A24: 注）区分には「会議開催経費」、「研修経費等」を記入
A26: ⑶ 経費配分明細 | E26: （単位：円）
A27: 区 分 | B27: 経費区分 | C27: 予算額 | D27: 積算内訳
A28: =+A16 -> 研修経費 | B28: 受講料 | C28: =+B16 -> 0 | F28: ←「区分」及び「予算額」は（２）支出から自動で転記されます
A29: =+A17 -> 0 | C29: =+B17 -> 0 | F29: ←積算内訳に記載の金額は「予算額」と一致すること
A30: =+A18 -> 0 | C30: =+B18 -> 0 | F30: （例）受講料50,000円×２名
A31: =+A19 -> 0 | C31: =+B19 -> 0
A32: =+A20 -> 0 | C32: =+B20 -> 0
A33: =+A21 -> 0 | C33: =+B21 -> 0
A34: =+A22 -> 0 | C34: =+B22 -> 0
A45: 計 | C45: =SUM(C28:C44) -> 0
A46: 注）区分には「会議開催経費」、「研修軽費等」を記入
A47: 経費区分には内訳（受講料、報償費、旅費、需用費等）を記入

Sheet 研修受講予定・実績一覧
J1: （ 別 添 ） | K1: 【記載留意事項】
A2: 介護員養成研修 研修受講予定・実績一覧 | K2: 申請する研修の表に記載してください（①初任者研修、②生活援助従事者研修、③実務者研修）
K3: ※アセッサー講習は不要
F4: 事業者（法人）名： | G4: =+第１号様式!G10 -> 0 | L4: に入力してください。
L5: は自動で転記・計算されます。
A6: １ 介護職員初任者研修 | I6: ※実績報告時のみ記載
B7: 施設・事業所名 | C7: 受講者氏名 | D7: 受講者生年月日 | E7: 研修機関名 | F7: 研修期間 | G7: 受講料(円） | I7: 修 了 年月日 | J7: 支払日
A8: 1 | F8: R . . | I8: R . . | J8: R . .
F9: ～
F10: R . .
A11: 2 | F11: R . . | I11: R . . | J11: R . .
F12: ～
F13: R . .
A14: 3 | F14: R . . | I14: R . . | J14: R . .
F15: ～
F16: R . .
A17: 4 | F17: R . . | I17: R . . | J17: R . .
F18: ～
F19: R . .
A20: 5 | F20: R . . | I20: R . . | J20: R . .
F21: ～
F22: R . .
A23: 注意事項 ⑴ 記入欄が不足する場合は、行を追加してください。
A24: ⑵ 実績報告時、申請内容から変更がある場合は、内容を修正すること。
A25: ⑶ 受講内容及び受講料が分かるパンフ等を添付すること。
B26: 受講人数(名) | C26: =COUNTA(G8:G22) -> 0
B27: 受講料合計(円） | C27: =SUM(G8:G22) -> 0
B28: 基準額(円） | C28: =C26*100000 -> 0 | D28: （受講予定者数×100,000円）
J29: （ 別 添 ）
A30: 介護員養成研修 研修受講予定・実績一覧
F32: 事業者（法人）名： | G32: =+第１号様式!G10 -> 0
A34: ２ 生活援助従事者研修 | I34: ※実績報告時のみ記載
B35: 施設・事業所名 | C35: 受講者氏名 | D35: 生年月日 | E35: 研修機関名 | F35: 研修期間 | G35: 受講料(円） | I35: 修 了 年月日 | J35: 支払日
A36: 1 | F36: R . . | I36: R . . | J36: R . .
F37: ～
F38: R . .
A39: 2 | F39: R . . | I39: R . . | J39: R . .
F40: ～
F41: R . .
A42: 3 | F42: R . . | I42: R . . | J42: R . .
...

Sheet 補助金振込 口座登録申出書
A1: 補助金振込口座登録申出書
I3: 令和８年度 介護職員キャリアアップ支援事業
J4: （ | X4: ） | AI4: ←（ ）内は下記リストから選択
AI5: 介護員養成研修費用助成事業
AI6: 介護職員実務者研修費用助成事業
X7: 令和 年 月 日 | AI7: アセッサー講習費用助成事業
B8: 鹿児島県知事 殿
O9: 〒
O10: 法人住所
O11: 法人名称
O12: 代表者職名
B18: 1 | C18: 金融機関名 | F18: 銀行 | U18: 金融機関コード | Y18: 支店コード | AI18: ←法人名義の口座を記載してください
F19: （ ）支店 | AJ19: （やむを得ず、施設・事業所名の口座に振込を希望する場合は、次ページの「委任状」も記載してください
C20: 預金種別 | F20: １．普通預金 | U20: 口座番号
F21: ２．当座預金 | N21: ※貯蓄預金は不可
C22: 口座名義人（カタカナで記入）
B24: ※ 本申請書を提出する際は、口座名義等が確認できる部分の通帳の写しを添付してください。
B25: ※ やむを得ず預金口座を変更・取消する場合は、あらかじめ県の担当者に相談してください。
B27: ※ 支払先として指定できる金融機関について
D28: 振替先の指定は県内、県外を問わずできますが、外国銀行及び漁業協同組合の一部はできません。
B30: ※ この預金口座は、補助金の支払いが完了するまで解約しないでください。
C32: 連絡欄
R38: 担当者連絡先（全て入力してください）
R39: 担当者名
R40: TEL
R41: FAX
R42: E-mail

Sheet 在職証明書→

Sheet 1人目
A1: 在職証明書
A2: 鹿児島県知事 殿
A4: 氏 名 | C4: 男 ・ 女
A5: 生年月日
A6: 所属する施設・事業所名
A7: 事業所の 所在市町村
A8: 在職期間 | B8: 年 ヶ月
A10: 上記の者は、証明日時点において当事業所に在職し、また継続して在職予定であることを証明します。
B11: 令和 年 月 日
A12: 住所
A13: 法人名 | C13: 印
A14: 代表者職・氏名

Sheet ２人目
A1: 在職証明書
A2: 鹿児島県知事 殿
A4: 氏 名 | C4: 男 ・ 女
A5: 生年月日
A6: 所属する施設・事業所名
A7: 事業所の 所在市町村
A8: 在職期間 | B8: 年 ヶ月
A10: 上記の者は、証明日時点において当事業所に在職し、また継続して在職予定であることを証明します。
B11: ='1人目'!B11 -> 令和 年 月 日
A12: 住所 | B12: ='1人目'!B12 -> 0
A13: 法人名 | B13: ='1人目'!B13 -> 0 | C13: 印
A14: 代表者職・氏名 | B14: ='1人目'!B14 -> 0

Sheet ３人目
A1: 在職証明書
A2: 鹿児島県知事 殿
A4: 氏 名 | C4: 男 ・ 女
A5: 生年月日
A6: 所属する施設・事業所名
A7: 事業所の 所在市町村
A8: 在職期間 | B8: 年 ヶ月
A10: 上記の者は、証明日時点において当事業所に在職し、また継続して在職予定であることを証明します。
B11: ='1人目'!B11 -> 令和 年 月 日
A12: 住所 | B12: ='1人目'!B12 -> 0
A13: 法人名 | B13: ='1人目'!B13 -> 0 | C13: 印
A14: 代表者職・氏名 | B14: ='1人目'!B14 -> 0

Sheet ４人目
A1: 在職証明書
A2: 鹿児島県知事 殿
A4: 氏 名 | C4: 男 ・ 女
A5: 生年月日
A6: 所属する施設・事業所名
A7: 事業所の 所在市町村
A8: 在職期間 | B8: 年 ヶ月
A10: 上記の者は、証明日時点において当事業所に在職し、また継続して在職予定であることを証明します。
B11: ='1人目'!B11 -> 令和 年 月 日
A12: 住所 | B12: ='1人目'!B12 -> 0
A13: 法人名 | B13: ='1人目'!B13 -> 0 | C13: 印
A14: 代表者職・氏名 | B14: ='1人目'!B14 -> 0
